BEGIN:VCALENDAR
VERSION:2.0
PRODID:-//North Shore Photographic Society - ECPv6.15.20//NONSGML v1.0//EN
CALSCALE:GREGORIAN
METHOD:PUBLISH
X-WR-CALNAME:North Shore Photographic Society
X-ORIGINAL-URL:https://nsps.ca
X-WR-CALDESC:Events for North Shore Photographic Society
REFRESH-INTERVAL;VALUE=DURATION:PT1H
X-Robots-Tag:noindex
X-PUBLISHED-TTL:PT1H
BEGIN:VTIMEZONE
TZID:America/Vancouver
BEGIN:DAYLIGHT
TZOFFSETFROM:-0800
TZOFFSETTO:-0700
TZNAME:PDT
DTSTART:20250309T100000
END:DAYLIGHT
BEGIN:STANDARD
TZOFFSETFROM:-0700
TZOFFSETTO:-0800
TZNAME:PST
DTSTART:20251102T090000
END:STANDARD
BEGIN:DAYLIGHT
TZOFFSETFROM:-0800
TZOFFSETTO:-0700
TZNAME:PDT
DTSTART:20260308T100000
END:DAYLIGHT
BEGIN:STANDARD
TZOFFSETFROM:-0700
TZOFFSETTO:-0800
TZNAME:PST
DTSTART:20261101T090000
END:STANDARD
BEGIN:DAYLIGHT
TZOFFSETFROM:-0800
TZOFFSETTO:-0700
TZNAME:PDT
DTSTART:20270314T100000
END:DAYLIGHT
BEGIN:STANDARD
TZOFFSETFROM:-0700
TZOFFSETTO:-0800
TZNAME:PST
DTSTART:20271107T090000
END:STANDARD
END:VTIMEZONE
BEGIN:VEVENT
DTSTART;TZID=America/Vancouver:20260302T193000
DTEND;TZID=America/Vancouver:20260302T193000
DTSTAMP:20260423T205320
CREATED:20260123T174947Z
LAST-MODIFIED:20260227T223606Z
UID:27678-1772479800-1772479800@nsps.ca
SUMMARY:Projection Night: Coaching
DESCRIPTION:This meeting is held on Zoom. NSPS members and pre-registered guests receive the link and passcode by Noon on the meeting day. \n7:00 - 7:30 pm (PT): Members 'meet and greet'\n7:30 pm: Meeting starts \nCoach: Sue Olsen \nDescription: Members' digital images are projected one at a time. A Coach provides feedback on each image. \nImages submitted for Star Level rating and scoring are announced by title. The photographer's name is announced when an image achieves a Gold or Certificate of Merit rating from the Coach. \nImages submitted for Feedback Only are announced by title only. The photographer is not identified. \n-------------------- \nGuests are welcome to attend two complimentary meetings on non-Program Nights. Please complete and submit the Guest Registration form\, and we'll get back to you within 48 hours. \nA limited number of non-member Guests may attend a Program Night (with a speaker presentation)\, following payment of the Guest Fee. To attend a Program Night\, please complete the Guest Registration form\, and e-Transfer $10 (non-member Guest Fee) to treasurer@nsps.ca no later than 3:00 PM (Pacific Time) on the day of Program Night. Please include your name and email address in the e-Transfer message. \nYes\, we are happy to sign-up new members! Find the info you need on our Membership page. \nPay Membership Fees and Program Night Guest Admission by e-Transfer to treasurer@nsps.ca. \nQuestions? Email membership@nsps.ca
URL:https://nsps.ca/event/projection-night-coaching-12/
CATEGORIES:Projection Night
END:VEVENT
BEGIN:VEVENT
DTSTART;TZID=America/Vancouver:20260307T190000
DTEND;TZID=America/Vancouver:20260307T190000
DTSTAMP:20260423T205320
CREATED:20260123T180227Z
LAST-MODIFIED:20260123T180642Z
UID:27680-1772910000-1772910000@nsps.ca
SUMMARY:North Shore Challenge 2026 Gala Event
DESCRIPTION:Welcome to the 41st North Shore Photographic Challenge Gala Event! \nThe North Shore Challenge is the premier photographic competition in Western Canada\, welcoming non-AI generative photography from both individual photographers and camera clubs\, throughout British Columbia and Yukon Territory. The competition theme is open\, with a wide range of subject matter\, including stunning landscapes\, altered reality\, abstracts\, portraits\, architecture\, wildlife\, nature\, architecture and more. \nTonight's North Shore Challenge Gala Event on Zoom is a celebration of excellence in photography that includes a showcase of competition images\, comments from judges on selected and winning images\, and competition results for both the Individual and Club-Submitted categories. \nFor more details and tickets for the live event\, please visit the Challenge 2026 welcome page. \nSee you on March 7th!\n6:30 PM (Pacific): Zoom doors open and Pre-show\n7:00 PM: Formal Program begins
URL:https://nsps.ca/event/north-shore-challenge-2026-gala-event/
END:VEVENT
BEGIN:VEVENT
DTSTART;TZID=America/Vancouver:20260309T193000
DTEND;TZID=America/Vancouver:20260309T193000
DTSTAMP:20260423T205320
CREATED:20260125T185023Z
LAST-MODIFIED:20260125T185231Z
UID:27682-1773084600-1773084600@nsps.ca
SUMMARY:Program Night: Jason Duncan
DESCRIPTION:This meeting is held on Zoom. NSPS members and pre-registered guests receive the link and passcode to join the meeting. \n7:00 - 7:30 pm (PT): Members and guests 'meet and greet'\n7:30 pm: Meeting starts \n-------------------- \nPresenter: Jason Duncan \nProgram Title: Mastering Seascape Photography \nDescription: To be announced \n-------------------- \n\n\nAdmission is free for Members \n\n\n\nGuests are welcome to attend two complimentary meetings on non-Program Nights. Please complete and submit the Guest Registration form\, and we'll get back to you within 48 hours. \nA limited number of non-member Guests may attend a Program Night (with a speaker presentation)\, following payment of the Guest Fee. To attend\, please complete the Guest Registration form\, and e-Transfer $10 (non-member Guest Fee) to treasurer@nsps.ca no later than 3:00 PM (Pacific Time) on the day of Program Night. Please include your name and email address in the e-Transfer message. \nYes\, we are happy to sign-up new members! Find the info you need on our Membership page. \nPay Membership Fees and Program Night Guest Admission by e-Transfer to treasurer@nsps.ca. \nQuestions? Email membership@nsps.ca
URL:https://nsps.ca/event/program-night-jason-duncan/
CATEGORIES:Program Night
END:VEVENT
BEGIN:VEVENT
DTSTART;TZID=America/Vancouver:20260316T193000
DTEND;TZID=America/Vancouver:20260316T193000
DTSTAMP:20260423T205320
CREATED:20260125T185143Z
LAST-MODIFIED:20260311T162136Z
UID:27684-1773689400-1773689400@nsps.ca
SUMMARY:Program Night: Liron Gertsman
DESCRIPTION:This meeting is held on Zoom. NSPS members and pre-registered guests receive the link and passcode to join the meeting. \n7:00 - 7:30 pm (PT): Members and guests 'meet and greet'\n7:30 pm: Meeting starts \n-------------------- \nPresenter: Liron Gertsman \nProgram Title: Wildlife in a Unique Light \nDescription: 2025 Bird Photographer of the Year\, Liron Gertsman\, shares stories and images from his favourite moments photographing wildlife in western Canada and around the world.  The presentation will include a mix of visual storytelling\, science\, and the creative process that Liron uses to create unique and eye-catching photos of nature. \n-------------------- \n\n\nAdmission is free for Members \n\n\n\nGuests are welcome to attend two complimentary meetings on non-Program Nights. Please complete and submit the Guest Registration form\, and we'll get back to you within 48 hours. \nA limited number of non-member Guests may attend a Program Night (with a speaker presentation)\, following payment of the Guest Fee. To attend\, please complete the Guest Registration form\, and e-Transfer $10 (non-member Guest Fee) to treasurer@nsps.ca no later than 3:00 PM (Pacific Time) on the day of Program Night. Please include your name and email address in the e-Transfer message. \nYes\, we are happy to sign-up new members! Find the info you need on our Membership page. \nPay Membership Fees and Program Night Guest Admission by e-Transfer to treasurer@nsps.ca. \nQuestions? Email membership@nsps.ca
URL:https://nsps.ca/event/program-night-liron-gertsman/
CATEGORIES:Program Night
END:VEVENT
BEGIN:VEVENT
DTSTART;TZID=America/Vancouver:20260323T193000
DTEND;TZID=America/Vancouver:20260323T193000
DTSTAMP:20260423T205320
CREATED:20260209T012239Z
LAST-MODIFIED:20260311T164443Z
UID:27718-1774294200-1774294200@nsps.ca
SUMMARY:Print Night (In-Person)
DESCRIPTION:This meeting will be held in-person at:\nDelbrook Community Recreation Centre\n851 West Queens Road\, North Vancouver\, BC. \n7:00 - 7:30 pm (Pacific): Members & guests 'meet and greet'\n7:30 pm: Meeting starts \nNOTE: NSPS in-person gatherings are scent free. Masks are optional and members can bring their own personal non-alcoholic beverages (i.e. water\, juice or pop). \nCoach: Mary Jensen \nDescription: Member prints are displayed one at a time. A Coach provides feedback on each print. \nPrints submitted for Star Level rating and scoring are announced by title\, and the photographer's name is announced if the print achieves a Gold of Certificate of Merit rating from the Coach. \nPrints submitted for Feedback Only are announced by title and not the photographer. \n-------------------- \nGuests are welcome to attend two complimentary club meetings on non-Program Nights. Please complete and submit the Guest Registration form\, and we'll get back to you within 48 hours. \nA limited number of non-member Guests may attend a Program Night (with a speaker presentation)\, following payment of the Guest Fee. If you wish to attend a Program Night\, please complete the Guest Registration form\, and e-Transfer $10 (non-member Guest Fee) to treasurer@nsps.ca no later than 3:00 PM (Pacific Time) on the day of Program Night. Please include your name and email address in the e-Transfer message. \nYes\, we are happy to sign-up new members! Find the info you need on our Membership page. \nMembership Fees and Program Night Guest Admission may be paid by e-transfer to treasurer@nsps.ca. \nQuestions? Email membership@nsps.ca
URL:https://nsps.ca/event/print-night-in-person-26/
CATEGORIES:Print Night
END:VEVENT
BEGIN:VEVENT
DTSTART;TZID=America/Vancouver:20260328T061500
DTEND;TZID=America/Vancouver:20260328T061500
DTSTAMP:20260423T205320
CREATED:20260316T172607Z
LAST-MODIFIED:20260316T172607Z
UID:27795-1774678500-1774678500@nsps.ca
SUMMARY:NSPS Field Trip
DESCRIPTION:This Field Trip will take place at a location within the City of Burnaby. \nThis field trip is for NSPS members only. Details in the NSPS Weekly email. \nNOTE: NSPS in-person gatherings (including Field Trips) are scent free.
URL:https://nsps.ca/event/nsps-field-trip-31/
CATEGORIES:Field Trip
END:VEVENT
BEGIN:VEVENT
DTSTART;TZID=America/Vancouver:20260330T193000
DTEND;TZID=America/Vancouver:20260330T193000
DTSTAMP:20260423T205320
CREATED:20260222T175206Z
LAST-MODIFIED:20260222T175206Z
UID:27765-1774899000-1774899000@nsps.ca
SUMMARY:Top Editing Tips
DESCRIPTION:This meeting is held on Zoom. NSPS members and pre-registered guests receive the link and passcode to join the meeting. \n7:00 - 7:30 pm (PT): Members and guests 'meet and greet'\n7:30 pm: Meeting starts \n-------------------- \nPresenters: NSPS members Len\, David and Stephanie \nProgram Title: Top Editing Tips \nDescription: Three NSPS members share their image-editing workflow and tips. \n-------------------- \n\n\nAdmission is free for Members \n\n\n\nGuests are welcome to attend two complimentary meetings on non-Program Nights. Please complete and submit the Guest Registration form\, and we'll get back to you within 48 hours. \nA limited number of non-member Guests may attend a Program Night (with a speaker presentation)\, following payment of the Guest Fee. To attend\, please complete the Guest Registration form\, and e-Transfer $10 (non-member Guest Fee) to treasurer@nsps.ca no later than 3:00 PM (Pacific Time) on the day of Program Night. Please include your name and email address in the e-Transfer message. \nYes\, we are happy to sign-up new members! Find the info you need on our Membership page. \nPay Membership Fees and Program Night Guest Admission by e-Transfer to treasurer@nsps.ca. \nQuestions? Email membership@nsps.ca
URL:https://nsps.ca/event/top-editing-tips/
CATEGORIES:Program Night
END:VEVENT
END:VCALENDAR