BEGIN:VCALENDAR
VERSION:2.0
PRODID:-//North Shore Photographic Society - ECPv6.15.20//NONSGML v1.0//EN
CALSCALE:GREGORIAN
METHOD:PUBLISH
X-ORIGINAL-URL:https://nsps.ca
X-WR-CALDESC:Events for North Shore Photographic Society
REFRESH-INTERVAL;VALUE=DURATION:PT1H
X-Robots-Tag:noindex
X-PUBLISHED-TTL:PT1H
BEGIN:VTIMEZONE
TZID:America/Vancouver
BEGIN:DAYLIGHT
TZOFFSETFROM:-0800
TZOFFSETTO:-0700
TZNAME:PDT
DTSTART:20250309T100000
END:DAYLIGHT
BEGIN:STANDARD
TZOFFSETFROM:-0700
TZOFFSETTO:-0800
TZNAME:PST
DTSTART:20251102T090000
END:STANDARD
BEGIN:DAYLIGHT
TZOFFSETFROM:-0800
TZOFFSETTO:-0700
TZNAME:PDT
DTSTART:20260308T100000
END:DAYLIGHT
BEGIN:STANDARD
TZOFFSETFROM:-0700
TZOFFSETTO:-0800
TZNAME:PST
DTSTART:20261101T090000
END:STANDARD
BEGIN:DAYLIGHT
TZOFFSETFROM:-0800
TZOFFSETTO:-0700
TZNAME:PDT
DTSTART:20270314T100000
END:DAYLIGHT
BEGIN:STANDARD
TZOFFSETFROM:-0700
TZOFFSETTO:-0800
TZNAME:PST
DTSTART:20271107T090000
END:STANDARD
END:VTIMEZONE
BEGIN:VEVENT
DTSTART;TZID=America/Vancouver:20260105T193000
DTEND;TZID=America/Vancouver:20260105T193000
DTSTAMP:20260423T235300
CREATED:20251115T180259Z
LAST-MODIFIED:20251221T194527Z
UID:27376-1767641400-1767641400@nsps.ca
SUMMARY:Projection Night: Coaching
DESCRIPTION:This meeting is held on Zoom. NSPS members and pre-registered guests receive the link and passcode by Noon on the meeting day. \n7:00 - 7:30 pm (PT): Members 'meet and greet'\n7:30 pm: Meeting starts \nCoach: Kerri-Jo Stewart \nDescription: Members' digital images are projected one at a time. A Coach provides feedback on each image. \nImages submitted for Star Level rating and scoring are announced by title. The photographer's name is announced when an image achieves a Gold or Certificate of Merit rating from the Coach. \nImages submitted for Feedback Only are announced by title only. The photographer is not identified. \n-------------------- \nGuests are welcome to attend two complimentary meetings on non-Program Nights. Please complete and submit the Guest Registration form\, and we'll get back to you within 48 hours. \nA limited number of non-member Guests may attend a Program Night (with a speaker presentation)\, following payment of the Guest Fee. To attend a Program Night\, please complete the Guest Registration form\, and e-Transfer $10 (non-member Guest Fee) to treasurer@nsps.ca no later than 3:00 PM (Pacific Time) on the day of Program Night. Please include your name and email address in the e-Transfer message. \nYes\, we are happy to sign-up new members! Find the info you need on our Membership page. \nPay Membership Fees and Program Night Guest Admission by e-Transfer to treasurer@nsps.ca. \nQuestions? Email membership@nsps.ca
URL:https://nsps.ca/event/projection-night-coaching-10/
CATEGORIES:Projection Night
END:VEVENT
BEGIN:VEVENT
DTSTART;TZID=America/Vancouver:20260111T090000
DTEND;TZID=America/Vancouver:20260111T090000
DTSTAMP:20260423T235300
CREATED:20260103T191112Z
LAST-MODIFIED:20260103T191112Z
UID:27518-1768122000-1768122000@nsps.ca
SUMMARY:Field Trip Follow Up
DESCRIPTION:9:00 AM: Meeting starts \nDescription: The focus of this meeting is to review and discuss images captured during the recent field trip to the George C. Reifel Migratory Bird Sanctuary. Members who participated in the field trip will share some of the images they captured\, and what they learned. \nAll members of the club are encouraged to attend this meeting--Field Trip participants or not! \n-------------------- \n\nAdmission is free for Members \n\n\nGuests are welcome to attend two complimentary meetings on non-Program Nights. Please complete and submit the Guest Registration form\, and we'll get back to you within 48 hours. \nA limited number of non-member Guests may attend a Program Night (with a speaker presentation)\, following payment of the Guest Fee. If you wish to attend a Program Night\, please complete the Guest Registration form\, and e-Transfer $10 (non-member Guest Fee) to treasurer@nsps.ca no later than 3:00 PM (Pacific Time) on the day of Program Night. Please include your name and email address in the e-Transfer message. \nYes\, we are happy to sign-up new members! Find the info you need on our Membership page. \nMembership Fees and Program Night Guest Admission may be paid by e-transfer to treasurer@nsps.ca. \nQuestions? Email membership@nsps.ca
URL:https://nsps.ca/event/field-trip-follow-up/
CATEGORIES:Field Trip
END:VEVENT
BEGIN:VEVENT
DTSTART;TZID=America/Vancouver:20260112T193000
DTEND;TZID=America/Vancouver:20260112T193000
DTSTAMP:20260423T235300
CREATED:20251126T172024Z
LAST-MODIFIED:20251126T172222Z
UID:27405-1768246200-1768246200@nsps.ca
SUMMARY:Getting Ready for Challenge 2026
DESCRIPTION:This meeting is held on Zoom. NSPS members and pre-registered guests receive the link and passcode by Noon on the meeting day. \n7:00 - 7:30 pm (PT): Members 'meet and greet'\n7:30 pm: Meeting starts \nThis special NSPS evening is designed to help members to get ready for the 2026 North Shore Photographic Challenge. It's an excellent opportunity for members to give and receive feedback about potential images for entry into the Individual category of the North Shore Challenge competition. \n-------------------- \nGuests are welcome to attend two complimentary meetings on non-Program Nights. Please complete and submit the Guest Registration form\, and we'll get back to you within 48 hours. \nA limited number of non-member Guests may attend a Program Night (with a speaker presentation)\, following payment of the Guest Fee. To attend a Program Night\, please complete the Guest Registration form\, and e-Transfer $10 (non-member Guest Fee) to treasurer@nsps.ca no later than 3:00 PM (Pacific Time) on the day of Program Night. Please include your name and email address in the e-Transfer message. \nYes\, we are happy to sign-up new members! Find the info you need on our Membership page. \nPay Membership Fees and Program Night Guest Admission by e-Transfer to treasurer@nsps.ca. \nQuestions? Email membership@nsps.ca
URL:https://nsps.ca/event/getting-ready-for-challenge-2026/
END:VEVENT
BEGIN:VEVENT
DTSTART;TZID=America/Vancouver:20260115T190000
DTEND;TZID=America/Vancouver:20260115T190000
DTSTAMP:20260423T235300
CREATED:20251215T180522Z
LAST-MODIFIED:20260115T012139Z
UID:27461-1768503600-1768503600@nsps.ca
SUMMARY:Int'l Competition Projection Night
DESCRIPTION:This meeting is held on Zoom. NSPS members and pre-registered guests receive the link and passcode by Noon on the meeting day. \n7:00 - 7:30 pm (PT): How to re-size your image\, with Len Grinke\n7:30 pm: Meeting starts \nCoach: Gordon Battaile \nDescription: Prior to the official meeting start\, Len Grinke will conduct a mini-lesson on image re-sizing using Lightroom and Photoshop. Then... \nNSPS recently participated in a four-country International Competition. Each country has a South African connection. The other countries are South Africa\, the United Kingdom and the United States. NSPS was chosen to represent Canada as the founders of NSPS were South African. \nEach country submitted 14 images and is hosting a separate judging night this month for the 56 images. Tonight is the NSPS judging night. \n-------------------- \nGuests are welcome to attend two complimentary meetings on non-Program Nights. Please complete and submit the Guest Registration form\, and we'll get back to you within 48 hours. \nA limited number of non-member Guests may attend a Program Night (with a speaker presentation)\, following payment of the Guest Fee. To attend a Program Night\, please complete the Guest Registration form\, and e-Transfer $10 (non-member Guest Fee) to treasurer@nsps.ca no later than 3:00 PM (Pacific Time) on the day of Program Night. Please include your name and email address in the e-Transfer message. \nYes\, we are happy to sign-up new members! Find the info you need on our Membership page. \nPay Membership Fees and Program Night Guest Admission by e-Transfer to treasurer@nsps.ca. \nQuestions? Email membership@nsps.ca
URL:https://nsps.ca/event/intl-competition-projection-night/
CATEGORIES:Projection Night
END:VEVENT
BEGIN:VEVENT
DTSTART;TZID=America/Vancouver:20260119T193000
DTEND;TZID=America/Vancouver:20260119T193000
DTSTAMP:20260423T235300
CREATED:20251130T192222Z
LAST-MODIFIED:20251130T192533Z
UID:27414-1768851000-1768851000@nsps.ca
SUMMARY:My Picture\, Your Edit
DESCRIPTION:This meeting is held on Zoom. NSPS members and pre-registered guests receive the link and passcode by Noon on the meeting day. \n7:00 - 7:30 PM: 'Meet and greet' online in the meeting room\n7:30 PM: Meeting starts \nThe focus of tonight's meeting is My Picture\, Your Edit\, an excellent opportunity to explore post-processing techniques and hone image-editing skills. \nHow to Participate: Please refer to the NSPS Weekly email for instructions. \n-------------------- \nGuests are welcome to attend two complimentary meetings on non-Program Nights. Please complete and submit the Guest Registration form\, and we'll get back to you within 48 hours. \nA limited number of non-member Guests may attend a Program Night (with a speaker presentation)\, following payment of the Guest Fee. To attend a Program Night\, please complete the Guest Registration form\, and e-Transfer $10 (non-member Guest Fee) to treasurer@nsps.ca no later than 3:00 PM (Pacific Time) on the day of Program Night. Please include your name and email address in the e-Transfer message. \nYes\, we are happy to sign-up new members! Find the info you need on our Membership page. \nPay Membership Fees and Program Night Guest Admission by e-Transfer to treasurer@nsps.ca. \nQuestions? Email membership@nsps.ca
URL:https://nsps.ca/event/my-picture-your-edit/
END:VEVENT
BEGIN:VEVENT
DTSTART;TZID=America/Vancouver:20260122T190000
DTEND;TZID=America/Vancouver:20260122T190000
DTSTAMP:20260423T235300
CREATED:20260116T183236Z
LAST-MODIFIED:20260116T183236Z
UID:27600-1769108400-1769108400@nsps.ca
SUMMARY:Workshop: Introduction to Printing
DESCRIPTION:This meeting is held on Zoom. NSPS members and pre-registered guests receive the link and passcode by Noon on the meeting day. \n7:00 pm: Meeting starts \nDescription: If you are new to printing\, not sure how to mat your print\, considering submitting an image to print night but are unsure about how to do that\, or just want to get the best out of your photographic prints\, please join our club Print Co-ordinator\, Martin\, for this workshop. \nTopics include: \n          * How to edit for printing (sample process using Lightroom) \n          * Understanding colours: on screen vs. on paper \n          * How to ensure your print has the colours it should have \n          * Types and choices of photographic paper \n          * Printing at home vs. sending to a professional printer \n          * Matting and/or framing prints \n-------------------- \nGuests are welcome to attend two complimentary meetings on non-Program Nights. Please complete and submit the Guest Registration form\, and we'll get back to you within 48 hours. \nA limited number of non-member Guests may attend a Program Night (with a speaker presentation)\, following payment of the Guest Fee. To attend a Program Night\, please complete the Guest Registration form\, and e-Transfer $10 (non-member Guest Fee) to treasurer@nsps.ca no later than 3:00 PM (Pacific Time) on the day of Program Night. Please include your name and email address in the e-Transfer message. \nYes\, we are happy to sign-up new members! Find the info you need on our Membership page. \nPay Membership Fees and Program Night Guest Admission by e-Transfer to treasurer@nsps.ca. \nQuestions? Email membership@nsps.ca
URL:https://nsps.ca/event/workshop-introduction-to-printing/
CATEGORIES:Workshop
END:VEVENT
BEGIN:VEVENT
DTSTART;TZID=America/Vancouver:20260123T183000
DTEND;TZID=America/Vancouver:20260123T183000
DTSTAMP:20260423T235300
CREATED:20260103T191459Z
LAST-MODIFIED:20260103T191459Z
UID:27521-1769193000-1769193000@nsps.ca
SUMMARY:NSPS Field Trip
DESCRIPTION:This Field Trip will take place at a location within the Municipality of Burnaby. \nThis field trip is for NSPS members only. Details in the NSPS Weekly email. \nNOTE: NSPS in-person gatherings (including Field Trips) are scent free.
URL:https://nsps.ca/event/nsps-field-trip-28/
CATEGORIES:Field Trip
END:VEVENT
BEGIN:VEVENT
DTSTART;TZID=America/Vancouver:20260126T193000
DTEND;TZID=America/Vancouver:20260126T193000
DTSTAMP:20260423T235300
CREATED:20251201T182907Z
LAST-MODIFIED:20251217T173917Z
UID:27419-1769455800-1769455800@nsps.ca
SUMMARY:Program Night: Mark Battista
DESCRIPTION:This meeting is held on Zoom. NSPS members and pre-registered guests receive the link and passcode to join the meeting. \n7:00 - 7:30 pm (PT): Members and guests 'meet and greet'\n7:30 pm: Meeting starts \n-------------------- \nPresenter: Mark Battista \nProgram Title: Composition: Shooting With Intent \nDescription: Why do certain images grab attention\, make us think or make us feel emotion in a deep way?  Often\, it is due to the intentional arrangement of visual elements into a unified\, impactful whole … the underlying compositional structure within an image. In this presentation\, Mark Battista shares ways of composing inspired by master painters of the past and outlines how to apply those skills to your photographic imagery. \n-------------------- \n\n\nAdmission is free for Members \n\n\n\nGuests are welcome to attend two complimentary meetings on non-Program Nights. Please complete and submit the Guest Registration form\, and we'll get back to you within 48 hours. \nA limited number of non-member Guests may attend a Program Night (with a speaker presentation)\, following payment of the Guest Fee. To attend\, please complete the Guest Registration form\, and e-Transfer $10 (non-member Guest Fee) to treasurer@nsps.ca no later than 3:00 PM (Pacific Time) on the day of Program Night. Please include your name and email address in the e-Transfer message. \nYes\, we are happy to sign-up new members! Find the info you need on our Membership page. \nPay Membership Fees and Program Night Guest Admission by e-Transfer to treasurer@nsps.ca. \nQuestions? Email membership@nsps.ca
URL:https://nsps.ca/event/program-night-mark-battista/
CATEGORIES:Program Night
END:VEVENT
BEGIN:VEVENT
DTSTART;TZID=America/Vancouver:20260130T183000
DTEND;TZID=America/Vancouver:20260130T183000
DTSTAMP:20260423T235300
CREATED:20260122T190207Z
LAST-MODIFIED:20260122T190911Z
UID:27667-1769797800-1769797800@nsps.ca
SUMMARY:BC/Yukon Inter-Club Speaker Series: Lyle Wetsch
DESCRIPTION:Tonight's presenter: Lyle Wetsch \nTopic: Travel Photography and Videography – Capturing More Than Vacation Snaps \nDescription: Travel opens up a world of locations and experiences\, but when you may be looking at capturing photos and videos in a variety of environments including in the air with drones and under the water\, the equipment requirements quickly escalate\, which can be a challenge with increased baggage restrictions and even just being able to manoeuvre at your destination. In this session\, Lyle Wetsch will share some key insights across the whole journey\, from equipment and packing choices\, to on the ground suggestions\, to editing and backing up your images on the road\, to presenting and showcasing your experiences post travel through video. \nLyle is CAPA’s Director of Information Technology and facilitator of the Videography SIG on the CAPA Learning Centre. \n-------------------- \nThe BC/Yukon Inter-Club Speaker Series is available only to members of participating photography clubs in British Columbia and the Yukon. Admission is free to members of the North Shore Photographic Society. NSPS members\, please see the NSPS Weekly email for details. \n-------------------- \nThe BC/Yukon Inter-Club Speaker Series is made possible in part\, by contributions from the Canadian Association for Photographic Art (CAPA)\, Pacific Zone. The series organizers gratefully acknowledge the support of CAPA\, Pacific Zone!
URL:https://nsps.ca/event/bc-yukon-inter-club-speaker-series-lyle-wetsch/
CATEGORIES:Speakers Series
END:VEVENT
END:VCALENDAR