BEGIN:VCALENDAR
VERSION:2.0
PRODID:-//North Shore Photographic Society - ECPv6.15.20//NONSGML v1.0//EN
CALSCALE:GREGORIAN
METHOD:PUBLISH
X-WR-CALNAME:North Shore Photographic Society
X-ORIGINAL-URL:https://nsps.ca
X-WR-CALDESC:Events for North Shore Photographic Society
REFRESH-INTERVAL;VALUE=DURATION:PT1H
X-Robots-Tag:noindex
X-PUBLISHED-TTL:PT1H
BEGIN:VTIMEZONE
TZID:America/Vancouver
BEGIN:DAYLIGHT
TZOFFSETFROM:-0800
TZOFFSETTO:-0700
TZNAME:PDT
DTSTART:20240310T100000
END:DAYLIGHT
BEGIN:STANDARD
TZOFFSETFROM:-0700
TZOFFSETTO:-0800
TZNAME:PST
DTSTART:20241103T090000
END:STANDARD
BEGIN:DAYLIGHT
TZOFFSETFROM:-0800
TZOFFSETTO:-0700
TZNAME:PDT
DTSTART:20250309T100000
END:DAYLIGHT
BEGIN:STANDARD
TZOFFSETFROM:-0700
TZOFFSETTO:-0800
TZNAME:PST
DTSTART:20251102T090000
END:STANDARD
BEGIN:DAYLIGHT
TZOFFSETFROM:-0800
TZOFFSETTO:-0700
TZNAME:PDT
DTSTART:20260308T100000
END:DAYLIGHT
BEGIN:STANDARD
TZOFFSETFROM:-0700
TZOFFSETTO:-0800
TZNAME:PST
DTSTART:20261101T090000
END:STANDARD
END:VTIMEZONE
BEGIN:VEVENT
DTSTART;TZID=America/Vancouver:20251201T193000
DTEND;TZID=America/Vancouver:20251201T193000
DTSTAMP:20260424T012500
CREATED:20250907T164310Z
LAST-MODIFIED:20251115T175921Z
UID:27156-1764617400-1764617400@nsps.ca
SUMMARY:Projection Night: Coaching
DESCRIPTION:This meeting is held on Zoom. NSPS members and pre-registered guests receive the link and passcode by Noon on the meeting day. \n7:00 - 7:30 pm (PT): Members 'meet and greet'\n7:30 pm: Meeting starts \nCoach: Clem Paslack \nDescription: Members' digital images are projected one at a time. A Coach provides feedback on each image. \nImages submitted for Star Level rating and scoring are announced by title. The photographer's name is announced when an image achieves a Gold or Certificate of Merit rating from the Coach. \nImages submitted for Feedback Only are announced by title only. The photographer is not identified. \n-------------------- \nGuests are welcome to attend two complimentary meetings on non-Program Nights. Please complete and submit the Guest Registration form\, and we'll get back to you within 48 hours. \nA limited number of non-member Guests may attend a Program Night (with a speaker presentation)\, following payment of the Guest Fee. To attend a Program Night\, please complete the Guest Registration form\, and e-Transfer $10 (non-member Guest Fee) to treasurer@nsps.ca no later than 3:00 PM (Pacific Time) on the day of Program Night. Please include your name and email address in the e-Transfer message. \nYes\, we are happy to sign-up new members! Find the info you need on our Membership page. \nPay Membership Fees and Program Night Guest Admission by e-Transfer to treasurer@nsps.ca. \nQuestions? Email membership@nsps.ca
URL:https://nsps.ca/event/projection-night-coaching-9/
CATEGORIES:Projection Night
END:VEVENT
BEGIN:VEVENT
DTSTART;TZID=America/Vancouver:20251208T190000
DTEND;TZID=America/Vancouver:20251208T190000
DTSTAMP:20260424T012500
CREATED:20251023T235524Z
LAST-MODIFIED:20251207T193049Z
UID:27289-1765220400-1765220400@nsps.ca
SUMMARY:Program Night Replay: Wayne Fisher
DESCRIPTION:This meeting is held on Zoom. NSPS members and pre-registered guests receive the link and passcode by Noon on the meeting day. \n7:00 - 7:10 pm (PT): Members 'meet and greet'\n7:10 pm: Replay starts \nPresenter: Wayne Fisher (replay) \nTitle: Art Meets Architecture \nDescription: In this replay presentation from May 26\, Wayne takes us on a journey of architectural exploration\, minimalism\, and the power of visual storytelling. Viewers will discover a range of techniques for capturing architecture in a truly impactful manner. Wayne discusses the importance of perspective\, explores the zone system for black and white work\, reviews the optimal equipment for architectural photography and delves into the realm of post-processing techniques. \n-------------------- \nGuests are welcome to attend two complimentary meetings on non-Program Nights. Please complete and submit the Guest Registration form\, and we'll get back to you within 48 hours. \nA limited number of non-member Guests may attend a Program Night (with a speaker presentation)\, following payment of the Guest Fee. To attend a Program Night\, please complete the Guest Registration form\, and e-Transfer $10 (non-member Guest Fee) to treasurer@nsps.ca no later than 3:00 PM (Pacific Time) on the day of Program Night. Please include your name and email address in the e-Transfer message. \nYes\, we are happy to sign-up new members! Find the info you need on our Membership page. \nPay Membership Fees and Program Night Guest Admission by e-Transfer to treasurer@nsps.ca. \nQuestions? Email membership@nsps.ca
URL:https://nsps.ca/event/program-night-replay-wayne-fisher/
CATEGORIES:Program Night
END:VEVENT
BEGIN:VEVENT
DTSTART;TZID=America/Vancouver:20251211T190000
DTEND;TZID=America/Vancouver:20251211T190000
DTSTAMP:20260424T012500
CREATED:20251119T175957Z
LAST-MODIFIED:20251124T173940Z
UID:27386-1765479600-1765479600@nsps.ca
SUMMARY:Sheldon Boles AI Presentation
DESCRIPTION:This meeting is held in conjunction with CAPA\, on CAPA's YouTube Live Platform. Registration is required in order to receive the link for this meeting (link available in the NSPS Weekly email). \n7:00 PM (Pacific): Meeting starts (NOTE Early Start Time!) \n-------------------- \nPresenter: Sheldon Boles\, FCAPA\, Director of Competitions\, CAPA \nDescription: Sheldon will discuss CAPA's updated Artificial Intelligence requirements on CAPA Competitions. \n-------------------- \n\n\nAdmission is free for Members \n\n\n\nGuests are welcome to attend two complimentary meetings on non-Program Nights. Please complete and submit the Guest Registration form\, and we'll get back to you within 48 hours. \nA limited number of non-member Guests may attend a Program Night (with a speaker presentation)\, following payment of the Guest Fee. To attend\, please complete the Guest Registration form\, and e-Transfer $10 (non-member Guest Fee) to treasurer@nsps.ca no later than 3:00 PM (Pacific Time) on the day of Program Night. Please include your name and email address in the e-Transfer message. \nYes\, we are happy to sign-up new members! Find the info you need on our Membership page. \nPay Membership Fees and Program Night Guest Admission by e-Transfer to treasurer@nsps.ca. \nQuestions? Email membership@nsps.ca
URL:https://nsps.ca/event/sheldon-boles-ai-presentation/
CATEGORIES:Program Night
END:VEVENT
BEGIN:VEVENT
DTSTART;TZID=America/Vancouver:20251215T193000
DTEND;TZID=America/Vancouver:20251215T193000
DTSTAMP:20260424T012500
CREATED:20251104T183016Z
LAST-MODIFIED:20251207T200755Z
UID:27365-1765827000-1765827000@nsps.ca
SUMMARY:Holiday Party - Stories Behind the Winning Images
DESCRIPTION:This meeting is held on Zoom. NSPS members and pre-registered guests receive the link and passcode by Noon on the meeting day. \n7:00 - 7:30 pm (PT): Members 'meet and greet'\n7:30 pm: Meeting starts \nDescription: Members will share the stories behind their winning images. There will also be a Challenge 2026 update and a preview of upcoming events and activities for 2026. \n-------------------- \nGuests are welcome to attend two complimentary meetings on non-Program Nights. Please complete and submit the Guest Registration form\, and we'll get back to you within 48 hours. \nA limited number of non-member Guests may attend a Program Night (with a speaker presentation)\, following payment of the Guest Fee. To attend a Program Night\, please complete the Guest Registration form\, and e-Transfer $10 (non-member Guest Fee) to treasurer@nsps.ca no later than 3:00 PM (Pacific Time) on the day of Program Night. Please include your name and email address in the e-Transfer message. \nYes\, we are happy to sign-up new members! Find the info you need on our Membership page. \nPay Membership Fees and Program Night Guest Admission by e-Transfer to treasurer@nsps.ca. \nQuestions? Email membership@nsps.ca
URL:https://nsps.ca/event/holiday-party-mixed-bag/
END:VEVENT
BEGIN:VEVENT
DTSTART;TZID=America/Vancouver:20251227T091500
DTEND;TZID=America/Vancouver:20251227T091500
DTSTAMP:20260424T012500
CREATED:20251211T165405Z
LAST-MODIFIED:20251225T060042Z
UID:27450-1766826900-1766826900@nsps.ca
SUMMARY:NSPS Field Trip
DESCRIPTION:This Field Trip will take place at a location within the Municipality of Delta. \nThis field trip is for NSPS members only. Details in the NSPS Weekly email. \nNOTE: NSPS in-person gatherings (including Field Trips) are scent free.
URL:https://nsps.ca/event/nsps-field-trip-27/
CATEGORIES:Field Trip
END:VEVENT
END:VCALENDAR