BEGIN:VCALENDAR
VERSION:2.0
PRODID:-//North Shore Photographic Society - ECPv6.15.20//NONSGML v1.0//EN
CALSCALE:GREGORIAN
METHOD:PUBLISH
X-ORIGINAL-URL:https://nsps.ca
X-WR-CALDESC:Events for North Shore Photographic Society
REFRESH-INTERVAL;VALUE=DURATION:PT1H
X-Robots-Tag:noindex
X-PUBLISHED-TTL:PT1H
BEGIN:VTIMEZONE
TZID:America/Vancouver
BEGIN:DAYLIGHT
TZOFFSETFROM:-0800
TZOFFSETTO:-0700
TZNAME:PDT
DTSTART:20250309T100000
END:DAYLIGHT
BEGIN:STANDARD
TZOFFSETFROM:-0700
TZOFFSETTO:-0800
TZNAME:PST
DTSTART:20251102T090000
END:STANDARD
BEGIN:DAYLIGHT
TZOFFSETFROM:-0800
TZOFFSETTO:-0700
TZNAME:PDT
DTSTART:20260308T100000
END:DAYLIGHT
BEGIN:STANDARD
TZOFFSETFROM:-0700
TZOFFSETTO:-0800
TZNAME:PST
DTSTART:20261101T090000
END:STANDARD
BEGIN:DAYLIGHT
TZOFFSETFROM:-0800
TZOFFSETTO:-0700
TZNAME:PDT
DTSTART:20270314T100000
END:DAYLIGHT
BEGIN:STANDARD
TZOFFSETFROM:-0700
TZOFFSETTO:-0800
TZNAME:PST
DTSTART:20271107T090000
END:STANDARD
END:VTIMEZONE
BEGIN:VEVENT
DTSTART;TZID=America/Vancouver:20260406T193000
DTEND;TZID=America/Vancouver:20260406T193000
DTSTAMP:20260423T233729
CREATED:20260301T165712Z
LAST-MODIFIED:20260316T174810Z
UID:27793-1775503800-1775503800@nsps.ca
SUMMARY:My Shooting Assignment
DESCRIPTION:This meeting is held on Zoom. NSPS members and pre-registered guests receive the link and passcode to join the meeting. \n7:00 - 7:30 pm (PT): Members and guests 'meet and greet'\n7:30 pm: Meeting starts \n-------------------- \nMy Shooting Assignment:\nMy Shooting Assignment Night is a review and discussion of images created by NSPS members\, for a particular photographic assignment. Normally\, the assignment is based on a Program Night speaker presentation\, and serves as an opportunity for members to apply skills and knowledge gained from the presentation. \nThe focus of tonight's Assignment is harnessing lighting in capturing seascape images. \n-------------------- \n\n\nAdmission is free for Members \n\n\n\nGuests are welcome to attend two complimentary meetings on non-Program Nights. Please complete and submit the Guest Registration form\, and we'll get back to you within 48 hours. \nA limited number of non-member Guests may attend a Program Night (with a speaker presentation)\, following payment of the Guest Fee. To attend\, please complete the Guest Registration form\, and e-Transfer $10 (non-member Guest Fee) to treasurer@nsps.ca no later than 3:00 PM (Pacific Time) on the day of Program Night. Please include your name and email address in the e-Transfer message. \nYes\, we are happy to sign-up new members! Find the info you need on our Membership page. \nPay Membership Fees and Program Night Guest Admission by e-Transfer to treasurer@nsps.ca. \nQuestions? Email membership@nsps.ca
URL:https://nsps.ca/event/my-shooting-assignment-4/
END:VEVENT
BEGIN:VEVENT
DTSTART;TZID=America/Vancouver:20260411T090000
DTEND;TZID=America/Vancouver:20260411T090000
DTSTAMP:20260423T233729
CREATED:20260402T184431Z
LAST-MODIFIED:20260402T184738Z
UID:28021-1775898000-1775898000@nsps.ca
SUMMARY:Field Trip Review
DESCRIPTION:This meeting is held on Zoom. NSPS members and pre-registered guests receive the link and passcode by Noon on the meeting day. \n9:00 AM: Meeting starts \nDescription: The focus of this meeting is sharing images and discussing the March 28 Field Trip to Piper Spit in Burnaby. All members of the club are encouraged to attend this meeting--Field Trip participants or not! \nTo join the Zoom meeting: members will receive an email with a link and passcode no later than Noon on the meeting day. \nGuests are welcome to attend two complimentary meetings on non-Program Nights. Please complete and submit the Guest Registration form\, and we'll get back to you within 48 hours. \nA limited number of non-member Guests may attend a Program Night (with a speaker presentation)\, following payment of the Guest Fee. If you wish to attend a Program Night\, please complete the Guest Registration form\, and e-Transfer $10 (non-member Guest Fee) to treasurer@nsps.ca no later than 3:00 PM (Pacific Time) on the day of Program Night. Please include your name and email address in the e-Transfer message. \nYes\, we are happy to sign-up new members! Find the info you need on our Membership page. \nMembership Fees and Program Night Guest Admission may be paid by e-transfer to treasurer@nsps.ca. \nQuestions? Email membership@nsps.ca
URL:https://nsps.ca/event/field-trip-review-2/
CATEGORIES:Field Trip
END:VEVENT
BEGIN:VEVENT
DTSTART;TZID=America/Vancouver:20260413T193000
DTEND;TZID=America/Vancouver:20260413T193000
DTSTAMP:20260423T233729
CREATED:20260311T164921Z
LAST-MODIFIED:20260311T164921Z
UID:27916-1776108600-1776108600@nsps.ca
SUMMARY:Projection Night: Coaching
DESCRIPTION:This meeting is held on Zoom. NSPS members and pre-registered guests receive the link and passcode by Noon on the meeting day. \n7:00 - 7:30 pm (PT): Members 'meet and greet'\n7:30 pm: Meeting starts \nCoach: Steve Ricketts \nDescription: Members' digital images are projected one at a time. A Coach provides feedback on each image. \nImages submitted for Star Level rating and scoring are announced by title. The photographer's name is announced when an image achieves a Gold or Certificate of Merit rating from the Coach. \nImages submitted for Feedback Only are announced by title only. The photographer is not identified. \n-------------------- \nGuests are welcome to attend two complimentary meetings on non-Program Nights. Please complete and submit the Guest Registration form\, and we'll get back to you within 48 hours. \nA limited number of non-member Guests may attend a Program Night (with a speaker presentation)\, following payment of the Guest Fee. To attend a Program Night\, please complete the Guest Registration form\, and e-Transfer $10 (non-member Guest Fee) to treasurer@nsps.ca no later than 3:00 PM (Pacific Time) on the day of Program Night. Please include your name and email address in the e-Transfer message. \nYes\, we are happy to sign-up new members! Find the info you need on our Membership page. \nPay Membership Fees and Program Night Guest Admission by e-Transfer to treasurer@nsps.ca. \nQuestions? Email membership@nsps.ca
URL:https://nsps.ca/event/projection-night-coaching-13/
CATEGORIES:Projection Night
END:VEVENT
BEGIN:VEVENT
DTSTART;TZID=America/Vancouver:20260418T103000
DTEND;TZID=America/Vancouver:20260418T103000
DTSTAMP:20260423T233729
CREATED:20260329T215322Z
LAST-MODIFIED:20260329T215322Z
UID:28003-1776508200-1776508200@nsps.ca
SUMMARY:NSPS Field Trip
DESCRIPTION:This Field Trip will take place at a location within the City of North Vancouver. \nThis field trip is for NSPS members only. Details in the NSPS Weekly email. \nNOTE: NSPS in-person gatherings (including Field Trips) are scent free.
URL:https://nsps.ca/event/nsps-field-trip-32/
CATEGORIES:Field Trip
END:VEVENT
BEGIN:VEVENT
DTSTART;TZID=America/Vancouver:20260420T193000
DTEND;TZID=America/Vancouver:20260420T193000
DTSTAMP:20260423T233729
CREATED:20260311T165046Z
LAST-MODIFIED:20260316T175307Z
UID:27918-1776713400-1776713400@nsps.ca
SUMMARY:Seeing in Sixes
DESCRIPTION:This meeting is held on Zoom. NSPS members and pre-registered guests receive the link and passcode to join the meeting. \n7:00 - 7:30 pm (PT): Members and guests 'meet and greet'\n7:30 pm: Meeting starts \n-------------------- \nDescription: NSPS members were invited to curate six images of a single nature … rather than ‘best’ or ‘my favourite’ images.  Their challenge was to select six images that are a compact expression of a single nature\, possibly a story\, definitely a theme – for example\, your wonderful dog\, floral beauty\, seeing Rome\, majestic mountains\, curves etc.  Together the images make a whole that is greater than the sum of its parts. \nCurated images will be shown and each photographer will be given the opportunity to make brief comments on their six photographs. \n-------------------- \n\n\nAdmission is free for Members \n\n\n\nGuests are welcome to attend two complimentary meetings on non-Program Nights. Please complete and submit the Guest Registration form\, and we'll get back to you within 48 hours. \nA limited number of non-member Guests may attend a Program Night (with a speaker presentation)\, following payment of the Guest Fee. To attend\, please complete the Guest Registration form\, and e-Transfer $10 (non-member Guest Fee) to treasurer@nsps.ca no later than 3:00 PM (Pacific Time) on the day of Program Night. Please include your name and email address in the e-Transfer message. \nYes\, we are happy to sign-up new members! Find the info you need on our Membership page. \nPay Membership Fees and Program Night Guest Admission by e-Transfer to treasurer@nsps.ca. \nQuestions? Email membership@nsps.ca
URL:https://nsps.ca/event/seeing-in-sixes/
END:VEVENT
BEGIN:VEVENT
DTSTART;TZID=America/Vancouver:20260425T200000
DTEND;TZID=America/Vancouver:20260425T200000
DTSTAMP:20260423T233729
CREATED:20260410T153349Z
LAST-MODIFIED:20260410T153349Z
UID:28053-1777147200-1777147200@nsps.ca
SUMMARY:NSPS Field Trip
DESCRIPTION:This Field Trip will take place at a location within the District of North Vancouver. \nThis field trip is for NSPS members only. Details in the NSPS Weekly email. \nNOTE: NSPS in-person gatherings (including Field Trips) are scent free.
URL:https://nsps.ca/event/nsps-field-trip-33/
CATEGORIES:Field Trip
END:VEVENT
BEGIN:VEVENT
DTSTART;TZID=America/Vancouver:20260427T193000
DTEND;TZID=America/Vancouver:20260427T193000
DTSTAMP:20260423T233729
CREATED:20260329T223128Z
LAST-MODIFIED:20260404T165002Z
UID:28007-1777318200-1777318200@nsps.ca
SUMMARY:Program Night: Judy Hancock Holland
DESCRIPTION:This meeting is held on Zoom. NSPS members and pre-registered guests receive the link and passcode to join the meeting. \n7:00 - 7:30 pm (PT): Members and guests 'meet and greet'\n7:30 pm: Meeting starts \n-------------------- \nPresenter: Judy Hancock Holland \nProgram Title: Black and White: How and Why \nDescription: Black and white can offer a classic look for your photographs\, but not all images are suited to this kind of treatment.  In this presentation\, Judy shares how she chooses subjects and composes for black and white images. She also recommends the best methods for converting RAW files to black and white. \n-------------------- \n\n\nAdmission is free for Members \n\n\n\nGuests are welcome to attend two complimentary meetings on non-Program Nights. Please complete and submit the Guest Registration form\, and we'll get back to you within 48 hours. \nA limited number of non-member Guests may attend a Program Night (with a speaker presentation)\, following payment of the Guest Fee. To attend\, please complete the Guest Registration form\, and e-Transfer $10 (non-member Guest Fee) to treasurer@nsps.ca no later than 3:00 PM (Pacific Time) on the day of Program Night. Please include your name and email address in the e-Transfer message. \nYes\, we are happy to sign-up new members! Find the info you need on our Membership page. \nPay Membership Fees and Program Night Guest Admission by e-Transfer to treasurer@nsps.ca. \nQuestions? Email membership@nsps.ca
URL:https://nsps.ca/event/program-night-judy-hancock-holland-3/
CATEGORIES:Program Night
END:VEVENT
BEGIN:VEVENT
DTSTART;TZID=America/Vancouver:20260504T193000
DTEND;TZID=America/Vancouver:20260504T193000
DTSTAMP:20260423T233729
CREATED:20260329T222805Z
LAST-MODIFIED:20260329T222805Z
UID:28005-1777923000-1777923000@nsps.ca
SUMMARY:Projection Night: Coaching
DESCRIPTION:This meeting is held on Zoom. NSPS members and pre-registered guests receive the link and passcode by Noon on the meeting day. \n7:00 - 7:30 pm (PT): Members 'meet and greet'\n7:30 pm: Meeting starts \nCoach: To be announced \nDescription: Members' digital images are projected one at a time. A Coach provides feedback on each image. \nImages submitted for Star Level rating and scoring are announced by title. The photographer's name is announced when an image achieves a Gold or Certificate of Merit rating from the Coach. \nImages submitted for Feedback Only are announced by title only. The photographer is not identified. \n-------------------- \nGuests are welcome to attend two complimentary meetings on non-Program Nights. Please complete and submit the Guest Registration form\, and we'll get back to you within 48 hours. \nA limited number of non-member Guests may attend a Program Night (with a speaker presentation)\, following payment of the Guest Fee. To attend a Program Night\, please complete the Guest Registration form\, and e-Transfer $10 (non-member Guest Fee) to treasurer@nsps.ca no later than 3:00 PM (Pacific Time) on the day of Program Night. Please include your name and email address in the e-Transfer message. \nYes\, we are happy to sign-up new members! Find the info you need on our Membership page. \nPay Membership Fees and Program Night Guest Admission by e-Transfer to treasurer@nsps.ca. \nQuestions? Email membership@nsps.ca
URL:https://nsps.ca/event/projection-night-coaching-14/
CATEGORIES:Projection Night
END:VEVENT
BEGIN:VEVENT
DTSTART;TZID=America/Vancouver:20260508T190000
DTEND;TZID=America/Vancouver:20260508T190000
DTSTAMP:20260423T233729
CREATED:20260423T164623Z
LAST-MODIFIED:20260423T164623Z
UID:28069-1778266800-1778266800@nsps.ca
SUMMARY:BC/Yukon Inter-Club Speaker Series: Manpreet Sokhi
DESCRIPTION:Tonight's presenter: Manpreet Sokhi \nTopic: Tigers in India – With Editing Trips & Tricks \nDescription: Award-winning photographer Manpreet Sokhi takes viewers on a journey through Central India to photograph one of the most iconic and elusive animals\, the Bengal tiger. He shares the adventure and challenges of working in the field\, along with practical editing tips to help refine wildlife images and bring out their full impact. \n-------------------- \nThe BC/Yukon Inter-Club Speaker Series is available only to members of participating photography clubs in British Columbia and the Yukon. Admission is free to members of the North Shore Photographic Society. NSPS members\, please see the NSPS Weekly email for details. \n-------------------- \nThe BC/Yukon Inter-Club Speaker Series is made possible in part\, by contributions from the Canadian Association for Photographic Art (CAPA)\, Pacific Zone. The series organizers gratefully acknowledge the support of CAPA\, Pacific Zone!
URL:https://nsps.ca/event/bc-yukon-inter-club-speaker-series-manpreet-sokhi/
CATEGORIES:Speakers Series
END:VEVENT
BEGIN:VEVENT
DTSTART;TZID=America/Vancouver:20260511T193000
DTEND;TZID=America/Vancouver:20260511T193000
DTSTAMP:20260423T233729
CREATED:20260330T171301Z
LAST-MODIFIED:20260330T171301Z
UID:28009-1778527800-1778527800@nsps.ca
SUMMARY:Print Night (In-Person)
DESCRIPTION:This meeting will be held in-person at:\nDelbrook Community Recreation Centre\n851 West Queens Road\, North Vancouver\, BC. \n7:00 - 7:30 pm (Pacific): Members & guests 'meet and greet'\n7:30 pm: Meeting starts \nNOTE: NSPS in-person gatherings are scent free. Masks are optional and members can bring their own personal non-alcoholic beverages (i.e. water\, juice or pop). \nCoaches: Russ and Wendy Kwan \nDescription: Member prints are displayed one at a time. A Coach provides feedback on each print. \nPrints submitted for Star Level rating and scoring are announced by title\, and the photographer's name is announced if the print achieves a Gold of Certificate of Merit rating from the Coach. \nPrints submitted for Feedback Only are announced by title and not the photographer. \n-------------------- \nGuests are welcome to attend two complimentary club meetings on non-Program Nights. Please complete and submit the Guest Registration form\, and we'll get back to you within 48 hours. \nA limited number of non-member Guests may attend a Program Night (with a speaker presentation)\, following payment of the Guest Fee. If you wish to attend a Program Night\, please complete the Guest Registration form\, and e-Transfer $10 (non-member Guest Fee) to treasurer@nsps.ca no later than 3:00 PM (Pacific Time) on the day of Program Night. Please include your name and email address in the e-Transfer message. \nYes\, we are happy to sign-up new members! Find the info you need on our Membership page. \nMembership Fees and Program Night Guest Admission may be paid by e-transfer to treasurer@nsps.ca. \nQuestions? Email membership@nsps.ca
URL:https://nsps.ca/event/print-night-in-person-27/
CATEGORIES:Print Night
END:VEVENT
BEGIN:VEVENT
DTSTART;TZID=America/Vancouver:20260525T193000
DTEND;TZID=America/Vancouver:20260525T193000
DTSTAMP:20260423T233729
CREATED:20260408T164300Z
LAST-MODIFIED:20260408T164300Z
UID:28043-1779737400-1779737400@nsps.ca
SUMMARY:Program Night:
DESCRIPTION:This meeting is held on Zoom. NSPS members and pre-registered guests receive the link and passcode to join the meeting. \n7:00 - 7:30 pm (PT): Members and guests 'meet and greet'\n7:30 pm: Meeting starts \n-------------------- \nPresenter: To be announced \nProgram Title: To be announced \nDescription: To be announced \n-------------------- \n\n\nAdmission is free for Members \n\n\n\nGuests are welcome to attend two complimentary meetings on non-Program Nights. Please complete and submit the Guest Registration form\, and we'll get back to you within 48 hours. \nA limited number of non-member Guests may attend a Program Night (with a speaker presentation)\, following payment of the Guest Fee. To attend\, please complete the Guest Registration form\, and e-Transfer $10 (non-member Guest Fee) to treasurer@nsps.ca no later than 3:00 PM (Pacific Time) on the day of Program Night. Please include your name and email address in the e-Transfer message. \nYes\, we are happy to sign-up new members! Find the info you need on our Membership page. \nPay Membership Fees and Program Night Guest Admission by e-Transfer to treasurer@nsps.ca. \nQuestions? Email membership@nsps.ca
URL:https://nsps.ca/event/program-night/
CATEGORIES:Program Night
END:VEVENT
BEGIN:VEVENT
DTSTART;TZID=America/Vancouver:20260529T190000
DTEND;TZID=America/Vancouver:20260529T190000
DTSTAMP:20260423T233729
CREATED:20260402T183537Z
LAST-MODIFIED:20260402T183537Z
UID:28019-1780081200-1780081200@nsps.ca
SUMMARY:Celebration of BC Photography
DESCRIPTION:This meeting is held on Zoom. NSPS members and pre-registered guests receive the link and passcode to join the meeting. \n7:00 pm (PT): Meeting starts \n-------------------- \nDescription: The first annual Celebration of BC Photography. Sixteen photography clubs from around BC will each show a video of images and music for an evening celebrating photography in BC. This is a showcase\, not a competition. Each club will have seven minutes to showcase their club's images. . \n-------------------- \n\n\nAdmission is free for Members \n\n\n\nGuests are welcome to attend two complimentary meetings on non-Program Nights. Please complete and submit the Guest Registration form\, and we'll get back to you within 48 hours. \nA limited number of non-member Guests may attend a Program Night (with a speaker presentation)\, following payment of the Guest Fee. To attend\, please complete the Guest Registration form\, and e-Transfer $10 (non-member Guest Fee) to treasurer@nsps.ca no later than 3:00 PM (Pacific Time) on the day of Program Night. Please include your name and email address in the e-Transfer message. \nYes\, we are happy to sign-up new members! Find the info you need on our Membership page. \nPay Membership Fees and Program Night Guest Admission by e-Transfer to treasurer@nsps.ca. \nQuestions? Email membership@nsps.ca
URL:https://nsps.ca/event/celebration-of-bc-photography/
END:VEVENT
BEGIN:VEVENT
DTSTART;TZID=America/Vancouver:20260601T193000
DTEND;TZID=America/Vancouver:20260601T193000
DTSTAMP:20260423T233729
CREATED:20260330T171523Z
LAST-MODIFIED:20260330T171523Z
UID:28011-1780342200-1780342200@nsps.ca
SUMMARY:Projection Night: Coaching
DESCRIPTION:This meeting is held on Zoom. NSPS members and pre-registered guests receive the link and passcode by Noon on the meeting day. \n7:00 - 7:30 pm (PT): Members 'meet and greet'\n7:30 pm: Meeting starts \nCoach: To be announced \nDescription: Members' digital images are projected one at a time. A Coach provides feedback on each image. \nImages submitted for Star Level rating and scoring are announced by title. The photographer's name is announced when an image achieves a Gold or Certificate of Merit rating from the Coach. \nImages submitted for Feedback Only are announced by title only. The photographer is not identified. \n-------------------- \nGuests are welcome to attend two complimentary meetings on non-Program Nights. Please complete and submit the Guest Registration form\, and we'll get back to you within 48 hours. \nA limited number of non-member Guests may attend a Program Night (with a speaker presentation)\, following payment of the Guest Fee. To attend a Program Night\, please complete the Guest Registration form\, and e-Transfer $10 (non-member Guest Fee) to treasurer@nsps.ca no later than 3:00 PM (Pacific Time) on the day of Program Night. Please include your name and email address in the e-Transfer message. \nYes\, we are happy to sign-up new members! Find the info you need on our Membership page. \nPay Membership Fees and Program Night Guest Admission by e-Transfer to treasurer@nsps.ca. \nQuestions? Email membership@nsps.ca
URL:https://nsps.ca/event/projection-night-coaching-15/
CATEGORIES:Projection Night
END:VEVENT
BEGIN:VEVENT
DTSTART;TZID=America/Vancouver:20260605T183000
DTEND;TZID=America/Vancouver:20260605T183000
DTSTAMP:20260423T233729
CREATED:20260316T172226Z
LAST-MODIFIED:20260402T182202Z
UID:27926-1780684200-1780684200@nsps.ca
SUMMARY:BC/Yukon Inter-Club Speaker Series: Larry Louie
DESCRIPTION:Tonight's presenter: Larry Louie \nTopic: The Voice of My Camera -- A Retrospective \nDescription: Internationally recognized documentary photographer Dr. Larry Louie will share his powerful humanitarian work from Bangladesh\, Nepal\, and the Philippines\, capturing the resilience of communities facing immense challenges. He will also present a preview of his latest project —environmental portraits of people in Edmonton\, each with a compelling human story. \nDr. Larry Louie is a Canadian optometrist and award-winning documentary photographer whose work highlights pressing social issues in a rapidly changing world. His images\, exhibited internationally from London to Madrid to across Canada\, blend artistry with advocacy —bringing attention to the struggles of marginalized communities and the efforts of those who support them. Through his lens\, Larry seeks to inspire awareness\, compassion\, and change. \n-------------------- \nThe BC/Yukon Inter-Club Speaker Series is available only to members of participating photography clubs in British Columbia and the Yukon. Admission is free to members of the North Shore Photographic Society. NSPS members\, please see the NSPS Weekly email for details. \n-------------------- \nThe BC/Yukon Inter-Club Speaker Series is made possible in part\, by contributions from the Canadian Association for Photographic Art (CAPA)\, Pacific Zone. The series organizers gratefully acknowledge the support of CAPA\, Pacific Zone!
URL:https://nsps.ca/event/bc-yukon-inter-club-speaker-series-larry-louie/
CATEGORIES:Speakers Series
END:VEVENT
BEGIN:VEVENT
DTSTART;TZID=America/Vancouver:20260608T190000
DTEND;TZID=America/Vancouver:20260608T190000
DTSTAMP:20260423T233729
CREATED:20260330T171932Z
LAST-MODIFIED:20260330T171932Z
UID:28013-1780945200-1780945200@nsps.ca
SUMMARY:AGM & Creative Corner: Architecture
DESCRIPTION:This meeting will be held online using Zoom. The link and passcode are emailed no later than Noon on the meeting day. \n6:50 - 7:00 PM: Members 'meet and greet' online in the meeting room\n7:00 - 7:30 PM: NSPS Annual General Meeting\n7:30 PM: Creative Corner \nAnnual General Meeting: Tonight's meeting will begin with the 2026 NSPS AGM. Details of the AGM are emailed to members in advance. \nNSPS Creative Corner is a themed slideshow of members' images set to music\, followed by comments from the image-makers. Tonight's theme: Architecture. \n\nAdmission is free for Members \n\n\nGuests are welcome to attend two complimentary meetings on non-Program Nights. Please complete and submit the Guest Registration form\, and we'll get back to you within 48 hours. \nA limited number of non-member Guests may attend a Program Night (with a speaker presentation)\, following payment of the Guest Fee. If you wish to attend a Program Night\, please complete the Guest Registration form\, and e-Transfer $10 (non-member Guest Fee) to treasurer@nsps.ca no later than 3:00 PM (Pacific Time) on the day of Program Night. Please include your name and email address in the e-Transfer message. \nYes\, we are happy to sign-up new members! Find the info you need on our Membership page. \nMembership Fees and Program Night Guest Admission may be paid by e-transfer to treasurer@nsps.ca. \nQuestions? Email membership@nsps.ca
URL:https://nsps.ca/event/agm-creative-corner-architecture/
CATEGORIES:Creative Corner Night
END:VEVENT
END:VCALENDAR