BEGIN:VCALENDAR
VERSION:2.0
PRODID:-//North Shore Photographic Society - ECPv6.15.20//NONSGML v1.0//EN
CALSCALE:GREGORIAN
METHOD:PUBLISH
X-ORIGINAL-URL:https://nsps.ca
X-WR-CALDESC:Events for North Shore Photographic Society
REFRESH-INTERVAL;VALUE=DURATION:PT1H
X-Robots-Tag:noindex
X-PUBLISHED-TTL:PT1H
BEGIN:VTIMEZONE
TZID:America/Vancouver
BEGIN:DAYLIGHT
TZOFFSETFROM:-0800
TZOFFSETTO:-0700
TZNAME:PDT
DTSTART:20250309T100000
END:DAYLIGHT
BEGIN:STANDARD
TZOFFSETFROM:-0700
TZOFFSETTO:-0800
TZNAME:PST
DTSTART:20251102T090000
END:STANDARD
BEGIN:DAYLIGHT
TZOFFSETFROM:-0800
TZOFFSETTO:-0700
TZNAME:PDT
DTSTART:20260308T100000
END:DAYLIGHT
BEGIN:STANDARD
TZOFFSETFROM:-0700
TZOFFSETTO:-0800
TZNAME:PST
DTSTART:20261101T090000
END:STANDARD
BEGIN:DAYLIGHT
TZOFFSETFROM:-0800
TZOFFSETTO:-0700
TZNAME:PDT
DTSTART:20270314T100000
END:DAYLIGHT
BEGIN:STANDARD
TZOFFSETFROM:-0700
TZOFFSETTO:-0800
TZNAME:PST
DTSTART:20271107T090000
END:STANDARD
END:VTIMEZONE
BEGIN:VEVENT
DTSTART;TZID=America/Vancouver:20260605T183000
DTEND;TZID=America/Vancouver:20260605T183000
DTSTAMP:20260423T225237
CREATED:20260316T172226Z
LAST-MODIFIED:20260402T182202Z
UID:27926-1780684200-1780684200@nsps.ca
SUMMARY:BC/Yukon Inter-Club Speaker Series: Larry Louie
DESCRIPTION:Tonight's presenter: Larry Louie \nTopic: The Voice of My Camera -- A Retrospective \nDescription: Internationally recognized documentary photographer Dr. Larry Louie will share his powerful humanitarian work from Bangladesh\, Nepal\, and the Philippines\, capturing the resilience of communities facing immense challenges. He will also present a preview of his latest project —environmental portraits of people in Edmonton\, each with a compelling human story. \nDr. Larry Louie is a Canadian optometrist and award-winning documentary photographer whose work highlights pressing social issues in a rapidly changing world. His images\, exhibited internationally from London to Madrid to across Canada\, blend artistry with advocacy —bringing attention to the struggles of marginalized communities and the efforts of those who support them. Through his lens\, Larry seeks to inspire awareness\, compassion\, and change. \n-------------------- \nThe BC/Yukon Inter-Club Speaker Series is available only to members of participating photography clubs in British Columbia and the Yukon. Admission is free to members of the North Shore Photographic Society. NSPS members\, please see the NSPS Weekly email for details. \n-------------------- \nThe BC/Yukon Inter-Club Speaker Series is made possible in part\, by contributions from the Canadian Association for Photographic Art (CAPA)\, Pacific Zone. The series organizers gratefully acknowledge the support of CAPA\, Pacific Zone!
URL:https://nsps.ca/event/bc-yukon-inter-club-speaker-series-larry-louie/
CATEGORIES:Speakers Series
END:VEVENT
END:VCALENDAR