BEGIN:VCALENDAR
VERSION:2.0
PRODID:-//North Shore Photographic Society - ECPv6.15.20//NONSGML v1.0//EN
CALSCALE:GREGORIAN
METHOD:PUBLISH
X-ORIGINAL-URL:https://nsps.ca
X-WR-CALDESC:Events for North Shore Photographic Society
REFRESH-INTERVAL;VALUE=DURATION:PT1H
X-Robots-Tag:noindex
X-PUBLISHED-TTL:PT1H
BEGIN:VTIMEZONE
TZID:America/Vancouver
BEGIN:DAYLIGHT
TZOFFSETFROM:-0800
TZOFFSETTO:-0700
TZNAME:PDT
DTSTART:20230312T100000
END:DAYLIGHT
BEGIN:STANDARD
TZOFFSETFROM:-0700
TZOFFSETTO:-0800
TZNAME:PST
DTSTART:20231105T090000
END:STANDARD
BEGIN:DAYLIGHT
TZOFFSETFROM:-0800
TZOFFSETTO:-0700
TZNAME:PDT
DTSTART:20240310T100000
END:DAYLIGHT
BEGIN:STANDARD
TZOFFSETFROM:-0700
TZOFFSETTO:-0800
TZNAME:PST
DTSTART:20241103T090000
END:STANDARD
BEGIN:DAYLIGHT
TZOFFSETFROM:-0800
TZOFFSETTO:-0700
TZNAME:PDT
DTSTART:20250309T100000
END:DAYLIGHT
BEGIN:STANDARD
TZOFFSETFROM:-0700
TZOFFSETTO:-0800
TZNAME:PST
DTSTART:20251102T090000
END:STANDARD
END:VTIMEZONE
BEGIN:VEVENT
DTSTART;TZID=America/Vancouver:20240316T084500
DTEND;TZID=America/Vancouver:20240316T084500
DTSTAMP:20260425T121913
CREATED:20240311T172347Z
LAST-MODIFIED:20240311T172552Z
UID:25424-1710578700-1710578700@nsps.ca
SUMMARY:NSPS Field Trip
DESCRIPTION:The objective of this Field Trip is ICM/Multiple Exposure. It will take place at a location within the City of Vancouver. \nThis field trip is for NSPS members only. If you are planning to attend\, please register using the Field Trip Registration form\, so that we can provide you with updated info and directions. \nNOTE: NSPS in-person gatherings (including Field Trips) are scent free.
URL:https://nsps.ca/event/nsps-field-trip-17/
CATEGORIES:Field Trip
END:VEVENT
END:VCALENDAR