BEGIN:VCALENDAR
VERSION:2.0
PRODID:-//North Shore Photographic Society - ECPv6.15.20//NONSGML v1.0//EN
CALSCALE:GREGORIAN
METHOD:PUBLISH
X-WR-CALNAME:North Shore Photographic Society
X-ORIGINAL-URL:https://nsps.ca
X-WR-CALDESC:Events for North Shore Photographic Society
REFRESH-INTERVAL;VALUE=DURATION:PT1H
X-Robots-Tag:noindex
X-PUBLISHED-TTL:PT1H
BEGIN:VTIMEZONE
TZID:America/Vancouver
BEGIN:DAYLIGHT
TZOFFSETFROM:-0800
TZOFFSETTO:-0700
TZNAME:PDT
DTSTART:20250309T100000
END:DAYLIGHT
BEGIN:STANDARD
TZOFFSETFROM:-0700
TZOFFSETTO:-0800
TZNAME:PST
DTSTART:20251102T090000
END:STANDARD
BEGIN:DAYLIGHT
TZOFFSETFROM:-0800
TZOFFSETTO:-0700
TZNAME:PDT
DTSTART:20260308T100000
END:DAYLIGHT
BEGIN:STANDARD
TZOFFSETFROM:-0700
TZOFFSETTO:-0800
TZNAME:PST
DTSTART:20261101T090000
END:STANDARD
BEGIN:DAYLIGHT
TZOFFSETFROM:-0800
TZOFFSETTO:-0700
TZNAME:PDT
DTSTART:20270314T100000
END:DAYLIGHT
BEGIN:STANDARD
TZOFFSETFROM:-0700
TZOFFSETTO:-0800
TZNAME:PST
DTSTART:20271107T090000
END:STANDARD
END:VTIMEZONE
BEGIN:VEVENT
DTSTART;TZID=America/Vancouver:20260420T193000
DTEND;TZID=America/Vancouver:20260420T193000
DTSTAMP:20260423T205409
CREATED:20260311T165046Z
LAST-MODIFIED:20260316T175307Z
UID:27918-1776713400-1776713400@nsps.ca
SUMMARY:Seeing in Sixes
DESCRIPTION:This meeting is held on Zoom. NSPS members and pre-registered guests receive the link and passcode to join the meeting. \n7:00 - 7:30 pm (PT): Members and guests 'meet and greet'\n7:30 pm: Meeting starts \n-------------------- \nDescription: NSPS members were invited to curate six images of a single nature … rather than ‘best’ or ‘my favourite’ images.  Their challenge was to select six images that are a compact expression of a single nature\, possibly a story\, definitely a theme – for example\, your wonderful dog\, floral beauty\, seeing Rome\, majestic mountains\, curves etc.  Together the images make a whole that is greater than the sum of its parts. \nCurated images will be shown and each photographer will be given the opportunity to make brief comments on their six photographs. \n-------------------- \n\n\nAdmission is free for Members \n\n\n\nGuests are welcome to attend two complimentary meetings on non-Program Nights. Please complete and submit the Guest Registration form\, and we'll get back to you within 48 hours. \nA limited number of non-member Guests may attend a Program Night (with a speaker presentation)\, following payment of the Guest Fee. To attend\, please complete the Guest Registration form\, and e-Transfer $10 (non-member Guest Fee) to treasurer@nsps.ca no later than 3:00 PM (Pacific Time) on the day of Program Night. Please include your name and email address in the e-Transfer message. \nYes\, we are happy to sign-up new members! Find the info you need on our Membership page. \nPay Membership Fees and Program Night Guest Admission by e-Transfer to treasurer@nsps.ca. \nQuestions? Email membership@nsps.ca
URL:https://nsps.ca/event/seeing-in-sixes/
END:VEVENT
END:VCALENDAR