BEGIN:VCALENDAR
VERSION:2.0
PRODID:-//North Shore Photographic Society - ECPv6.15.20//NONSGML v1.0//EN
CALSCALE:GREGORIAN
METHOD:PUBLISH
X-WR-CALNAME:North Shore Photographic Society
X-ORIGINAL-URL:https://nsps.ca
X-WR-CALDESC:Events for North Shore Photographic Society
REFRESH-INTERVAL;VALUE=DURATION:PT1H
X-Robots-Tag:noindex
X-PUBLISHED-TTL:PT1H
BEGIN:VTIMEZONE
TZID:America/Vancouver
BEGIN:DAYLIGHT
TZOFFSETFROM:-0800
TZOFFSETTO:-0700
TZNAME:PDT
DTSTART:20250309T100000
END:DAYLIGHT
BEGIN:STANDARD
TZOFFSETFROM:-0700
TZOFFSETTO:-0800
TZNAME:PST
DTSTART:20251102T090000
END:STANDARD
BEGIN:DAYLIGHT
TZOFFSETFROM:-0800
TZOFFSETTO:-0700
TZNAME:PDT
DTSTART:20260308T100000
END:DAYLIGHT
BEGIN:STANDARD
TZOFFSETFROM:-0700
TZOFFSETTO:-0800
TZNAME:PST
DTSTART:20261101T090000
END:STANDARD
BEGIN:DAYLIGHT
TZOFFSETFROM:-0800
TZOFFSETTO:-0700
TZNAME:PDT
DTSTART:20270314T100000
END:DAYLIGHT
BEGIN:STANDARD
TZOFFSETFROM:-0700
TZOFFSETTO:-0800
TZNAME:PST
DTSTART:20271107T090000
END:STANDARD
END:VTIMEZONE
BEGIN:VEVENT
DTSTART;TZID=America/Vancouver:20260406T193000
DTEND;TZID=America/Vancouver:20260406T193000
DTSTAMP:20260423T205310
CREATED:20260301T165712Z
LAST-MODIFIED:20260316T174810Z
UID:27793-1775503800-1775503800@nsps.ca
SUMMARY:My Shooting Assignment
DESCRIPTION:This meeting is held on Zoom. NSPS members and pre-registered guests receive the link and passcode to join the meeting. \n7:00 - 7:30 pm (PT): Members and guests 'meet and greet'\n7:30 pm: Meeting starts \n-------------------- \nMy Shooting Assignment:\nMy Shooting Assignment Night is a review and discussion of images created by NSPS members\, for a particular photographic assignment. Normally\, the assignment is based on a Program Night speaker presentation\, and serves as an opportunity for members to apply skills and knowledge gained from the presentation. \nThe focus of tonight's Assignment is harnessing lighting in capturing seascape images. \n-------------------- \n\n\nAdmission is free for Members \n\n\n\nGuests are welcome to attend two complimentary meetings on non-Program Nights. Please complete and submit the Guest Registration form\, and we'll get back to you within 48 hours. \nA limited number of non-member Guests may attend a Program Night (with a speaker presentation)\, following payment of the Guest Fee. To attend\, please complete the Guest Registration form\, and e-Transfer $10 (non-member Guest Fee) to treasurer@nsps.ca no later than 3:00 PM (Pacific Time) on the day of Program Night. Please include your name and email address in the e-Transfer message. \nYes\, we are happy to sign-up new members! Find the info you need on our Membership page. \nPay Membership Fees and Program Night Guest Admission by e-Transfer to treasurer@nsps.ca. \nQuestions? Email membership@nsps.ca
URL:https://nsps.ca/event/my-shooting-assignment-4/
END:VEVENT
END:VCALENDAR